BEGIN:VCALENDAR
X-WR-TIMEZONE:Europe/Berlin
X-WR-CALNAME:rbb-Kalender
VERSION:2.0
METHOD:PUBLISH
CALSCALE:GREGORIAN
PRODID:rbb-CMS DAY
BEGIN:VEVENT
CLASS:PUBLIC
URL:http://www.rbb-online.de/content/rbb/rbb/zibb/service/familie/schueleraustausch.html
DTEND:20130619T183000
DTSTART:20130619T183000
UID:/content/rbb/rbb/zibb/service/familie/schueleraustausch
DTSTAMP:20140407T160913
DESCRIPTION:Jedes Jahr nehmen etwa 20.000 Jugendliche in Deutschland an einem Schüleraustausch teil. Aber wie läuft so ein Austausch genau ab? Welche Organisationen und Finanzierungshilfen gibt es?
SUMMARY:Abenteuer Auslandsjahr
END:VEVENT
END:VCALENDAR
