BEGIN:VCALENDAR
X-WR-TIMEZONE:Europe/Berlin
X-WR-CALNAME:rbb-Kalender
VERSION:2.0
METHOD:PUBLISH
CALSCALE:GREGORIAN
PRODID:rbb-CMS DAY
BEGIN:VEVENT
CLASS:PUBLIC
URL:http://www.rbb-online.de/content/rbb/rbb/zibb/service/familie/service-mutterschaft.html
DTEND:20131016T192500
DTSTART:20131016T183000
UID:/content/rbb/rbb/zibb/service/familie/service-mutterschaft
DTSTAMP:20140406T042116
DESCRIPTION:Heute hat jedes vierte Kind eine Mutter, die älter als 40 Jahre ist. Viele Frauen entscheiden sich ganz bewusst für eine relativ späte Schwangerschaft. Zu Freuden und Risiken hat zibb  Prof. Henrich von der Charité befragt.\n\n \n\n \n
SUMMARY:Späte Mütter
END:VEVENT
END:VCALENDAR
