BEGIN:VCALENDAR
X-WR-TIMEZONE:Europe/Berlin
X-WR-CALNAME:rbb-Kalender
VERSION:2.0
METHOD:PUBLISH
CALSCALE:GREGORIAN
PRODID:rbb-CMS DAY
BEGIN:VEVENT
CLASS:PUBLIC
URL:http://www.rbb-online.de/content/rbb/rbb/zibb/service/familie/service__reisebuchung.html
DTEND:20130522T183000
DTSTART:20130522T183000
UID:/content/rbb/rbb/zibb/service/familie/service__reisebuchung
DTSTAMP:20140407T154715
DESCRIPTION:Schnell mal in den Urlaub klicken - Jeder Dritte bucht Flug, Hotel oder Pauschalreise im Internet. Da ist es gut zu wissen, wo sich die Suche lohnt, wo die Reiseauswahl groß ist und Preisangaben stimmen. Welche Portale sind seriös?\n
SUMMARY:Reisebuchung im Internet
END:VEVENT
END:VCALENDAR
