BEGIN:VCALENDAR
X-WR-TIMEZONE:Europe/Berlin
X-WR-CALNAME:rbb-Kalender
VERSION:2.0
METHOD:PUBLISH
CALSCALE:GREGORIAN
PRODID:rbb-CMS DAY
BEGIN:VEVENT
CLASS:PUBLIC
URL:http://www.rbb-online.de/content/rbb/rbb/zibb/service/familie/smartphone-weg-was-nun.html
DTEND:20140224T192500
DTSTART:20140224T183000
UID:/content/rbb/rbb/zibb/service/familie/smartphone-weg-was-nun
DTSTAMP:20140406T223450
DESCRIPTION:Jeder zehnte Deutsche hat sein Handy schon einmal verloren, rund dreieinhalb Millionen wurde es gestohlen. Neben dem Wertverlust ist besonders problematisch, dass die meisten Smartphonebesitzer ihre gesamten Daten auf dem Gerät haben: Adressen, Fotos und Filme, Musik, Daten. Wir geben Tipps, wie sich dieser Verlust abfedern lässt.\n\n\n
SUMMARY:Smartphone weg - was nun?
END:VEVENT
END:VCALENDAR
