BEGIN:VCALENDAR
X-WR-TIMEZONE:Europe/Berlin
X-WR-CALNAME:rbb-Kalender
VERSION:2.0
METHOD:PUBLISH
CALSCALE:GREGORIAN
PRODID:rbb-CMS DAY
BEGIN:VEVENT
CLASS:PUBLIC
URL:http://www.rbb-online.de/content/rbb/rbb/zibb/service/geld/Tipp-zum-steuern-sparen.html
DTEND:20131023T192500
DTSTART:20131023T183000
UID:/content/rbb/rbb/zibb/service/geld/Tipp-zum-steuern-sparen
DTSTAMP:20140407T155143
DESCRIPTION:Jahresendspurt in Sachen Steuern - wer sich jetzt um ein paar Steuerangelegenheiten kümmert, kann noch viel aus seinen Abgaben herausholen.\n
SUMMARY:Steuern sparen bis zum Jahresende  
END:VEVENT
END:VCALENDAR
