BEGIN:VCALENDAR
X-WR-TIMEZONE:Europe/Berlin
X-WR-CALNAME:rbb-Kalender
VERSION:2.0
METHOD:PUBLISH
CALSCALE:GREGORIAN
PRODID:rbb-CMS DAY
BEGIN:VEVENT
CLASS:PUBLIC
URL:http://www.rbb-online.de/content/rbb/rbb/zibb/service/geld/cowdfunding.html
DTEND:20140203T192500
DTSTART:20140203T183000
UID:/content/rbb/rbb/zibb/service/geld/cowdfunding
DTSTAMP:20140405T224602
DESCRIPTION:Das kennen viele Jungunternehmer: man hat eine gute Idee, aber zu wenig Geld um sie umzusetzen und auch die Banken wollen sie nicht finanzieren. Die Alternative könnte das sogenannte „Crowdfunding“ über entsprechende Internetplattformen bieten. Zibb erklärt, wie es funktioniert und was es bringt.\n
SUMMARY:Crowdfunding boomt in Deutschland
END:VEVENT
END:VCALENDAR
