BEGIN:VCALENDAR
X-WR-TIMEZONE:Europe/Berlin
X-WR-CALNAME:rbb-Kalender
VERSION:2.0
METHOD:PUBLISH
CALSCALE:GREGORIAN
PRODID:rbb-CMS DAY
BEGIN:VEVENT
CLASS:PUBLIC
URL:http://www.rbb-online.de/content/rbb/rbb/zibb/service/geld/hauskredit.html
DTEND:20140324T192500
DTSTART:20140324T183000
UID:/content/rbb/rbb/zibb/service/geld/hauskredit
DTSTAMP:20140406T222317
DESCRIPTION:Mit wenig Aufwand viele tausend Euro sparen? Bei der Finanzierung der eigenen vier Wände ist das fast immer drin, egal ob es um einen Bau- oder Anschlusskredit oder um ein Sanierungsdarlehen geht. Das zeigt der aktuelle Finanztest-Vergleich, für den die Experten der Stiftung Warentest Angebote von 113 Banken, Vermittlern, Versicherern und Bausparkassen eingeholt haben.\n\n\n
SUMMARY:Sparen bei der Eigenheim-Finanzierung
END:VEVENT
END:VCALENDAR
