BEGIN:VCALENDAR
X-WR-TIMEZONE:Europe/Berlin
X-WR-CALNAME:rbb-Kalender
VERSION:2.0
METHOD:PUBLISH
CALSCALE:GREGORIAN
PRODID:rbb-CMS DAY
BEGIN:VEVENT
CLASS:PUBLIC
URL:http://www.rbb-online.de/content/rbb/rbb/zibb/service/geld/mehr_geld_fuer_die.html
DTEND:20130416T183000
DTSTART:20130416T183000
UID:/content/rbb/rbb/zibb/service/geld/mehr_geld_fuer_die
DTSTAMP:20140406T192402
DESCRIPTION:Das Geld aus der gesetzlichen Pflegekasse reicht schon heute nicht mehr aus. Seit Anfang des Jahres fördert die Bundesregierung deshalb die private Vorsorge. Stiftung Warentest hat Zusatzversicherungen getestet. Die Ergebnisse bei zibb.\n
SUMMARY:Mehr Geld für die Pflege
END:VEVENT
END:VCALENDAR
