BEGIN:VCALENDAR
X-WR-TIMEZONE:Europe/Berlin
X-WR-CALNAME:rbb-Kalender
VERSION:2.0
METHOD:PUBLISH
CALSCALE:GREGORIAN
PRODID:rbb-CMS DAY
BEGIN:VEVENT
CLASS:PUBLIC
URL:http://www.rbb-online.de/content/rbb/rbb/zibb/service/geld/prepaid-kreditkarten.html
DTEND:20131030T192500
DTSTART:20131030T183000
UID:/content/rbb/rbb/zibb/service/geld/prepaid-kreditkarten
DTSTAMP:20140407T155201
DESCRIPTION:Die so genannten Prepaid-Kreditkarten auf Guthabenbasis bieten immer mehr Banken an. Ihr Versprechen: volle Kostenkontrolle und sicheres Shoppingvergnügen, denn man kann nur das ausgeben, was man vorher auf die Karte geladen hat. Finanztest hat jetzt untersucht, ob die Prepaid-Karten tatsächlich mit den klassischen Kreditkarten mithalten können.\n\n\n
SUMMARY:Prepaid-Kreditkarten
END:VEVENT
END:VCALENDAR
