BEGIN:VCALENDAR
X-WR-TIMEZONE:Europe/Berlin
X-WR-CALNAME:rbb-Kalender
VERSION:2.0
METHOD:PUBLISH
CALSCALE:GREGORIAN
PRODID:rbb-CMS DAY
BEGIN:VEVENT
CLASS:PUBLIC
URL:http://www.rbb-online.de/content/rbb/rbb/zibb/service/geld/reisen.html
DTEND:20140130T192500
DTSTART:20140130T183000
UID:/content/rbb/rbb/zibb/service/geld/reisen
DTSTAMP:20140406T222829
DESCRIPTION:Wer jetzt schon an den Sommerurlaub denkt, kann viel Geld sparen. Das zumindest versprechen alle großen Reiseanbieter. Sie werben mit satten Frühbucher-Rabatten von 20 bis 50 Prozent! Doch was ist dran an den Versprechen und was tatsächlich drin für die Urlauber? Und: wer sollte früh buchen und wer lieber bis zur letzten Minute abwarten.\n
SUMMARY:Frühbucher-Rabatte - wie man wirklich sparen kann 
END:VEVENT
END:VCALENDAR
