BEGIN:VCALENDAR
X-WR-TIMEZONE:Europe/Berlin
X-WR-CALNAME:rbb-Kalender
VERSION:2.0
METHOD:PUBLISH
CALSCALE:GREGORIAN
PRODID:rbb-CMS DAY
BEGIN:VEVENT
CLASS:PUBLIC
URL:http://www.rbb-online.de/content/rbb/rbb/zibb/service/geld/risiko_immobilienkredit.html
DTEND:20130618T183000
DTSTART:20130618T183000
UID:/content/rbb/rbb/zibb/service/geld/risiko_immobilienkredit
DTSTAMP:20140407T155120
DESCRIPTION:FinanzTest und die Stiftung Warentest haben Baufinanzierungen und die entsprechenden professionellen Beratungen verschiedener Anbieter untersucht. bei 146 Bankfilialen wurden Kreditangebote für einen Wohnungskauf eingeholt. zibb stellt die Ergebnisse vor.\n
SUMMARY:Risiko Immobilienkredit
END:VEVENT
END:VCALENDAR
