BEGIN:VCALENDAR
X-WR-TIMEZONE:Europe/Berlin
X-WR-CALNAME:rbb-Kalender
VERSION:2.0
METHOD:PUBLISH
CALSCALE:GREGORIAN
PRODID:rbb-CMS DAY
BEGIN:VEVENT
CLASS:PUBLIC
URL:http://www.rbb-online.de/content/rbb/rbb/zibb/service/geld/schulden.html
DTEND:20140109T192500
DTSTART:20140109T183000
UID:/content/rbb/rbb/zibb/service/geld/schulden
DTSTAMP:20140405T225054
DESCRIPTION:Jeder achte erwachsene Berliner ist überschuldet, in Brandenburg kann jeder zehnte seine Schulden nicht mehr zurückzahlen. Für diese Menschen ist das Risiko extrem hoch, dass der Gerichtsvollzieher vor der Tür steht. Rechtsanwältin Heike Geerdes beantwortet im zibb-Service Fragen rund um die Pfändung.\n
SUMMARY:Schulden: Wenn die Pfändung droht 
END:VEVENT
END:VCALENDAR
