BEGIN:VCALENDAR
X-WR-TIMEZONE:Europe/Berlin
X-WR-CALNAME:rbb-Kalender
VERSION:2.0
METHOD:PUBLISH
CALSCALE:GREGORIAN
PRODID:rbb-CMS DAY
BEGIN:VEVENT
CLASS:PUBLIC
URL:http://www.rbb-online.de/content/rbb/rbb/zibb/service/geld/schuldenerlass-krankenkassen.html
DTEND:20131107T192500
DTSTART:20131107T183000
UID:/content/rbb/rbb/zibb/service/geld/schuldenerlass-krankenkassen
DTSTAMP:20140406T232327
DESCRIPTION:Wer bisher nicht alle Beiträge zahlen konnte oder gar nicht versichert war, kann bis zum Ende des Jahres von einer gesetzlichen Sonderregelung profitieren. Stichtag ist der 31. Dezember 2013. Ab 2014 ist die Nachzahlung versäumter Beiträge dann wieder fällig. Die Chance zum Neuanfang gibt es auch bei den privaten Krankenkassen.\n
SUMMARY:Schuldenerlass bei Krankenkassen 
END:VEVENT
END:VCALENDAR
