BEGIN:VCALENDAR
X-WR-TIMEZONE:Europe/Berlin
X-WR-CALNAME:rbb-Kalender
VERSION:2.0
METHOD:PUBLISH
CALSCALE:GREGORIAN
PRODID:rbb-CMS DAY
BEGIN:VEVENT
CLASS:PUBLIC
URL:http://www.rbb-online.de/content/rbb/rbb/zibb/service/geld/service-chef.html
DTEND:20140120T192500
DTSTART:20140120T183000
UID:/content/rbb/rbb/zibb/service/geld/service-chef
DTSTAMP:20140406T222753
DESCRIPTION:Gründerhauptstadt Berlin - nirgendwo sonst in Deutschland machen sich so viele Menschen selbstständig wie hier. Sei es als innovatives Start-up oder als klassischer Ein-Mann-Handwerksbetrieb. Doch viele beginnen unterfinanziert, ohne ordentliche Kapitaldecke. Wie überlebt man auch auf Dauer als Gründer? Welche Fördermittel gibt es? zibb klärt auf.\n
SUMMARY:Ich bin mein eigener Chef
END:VEVENT
END:VCALENDAR
