BEGIN:VCALENDAR
X-WR-TIMEZONE:Europe/Berlin
X-WR-CALNAME:rbb-Kalender
VERSION:2.0
METHOD:PUBLISH
CALSCALE:GREGORIAN
PRODID:rbb-CMS DAY
BEGIN:VEVENT
CLASS:PUBLIC
URL:http://www.rbb-online.de/content/rbb/rbb/zibb/service/geld/strompreise.html
DTEND:20131112T192500
DTSTART:20131112T183000
UID:/content/rbb/rbb/zibb/service/geld/strompreise
DTSTAMP:20140406T040617
DESCRIPTION:Anfang 2014 wird es einen drastischen Preisanstieg beim Strom geben. Schuld ist die EEG-Umlage, die dann auf 6,2 ct/kWh angehoben wird. Für die Verbraucher gibt es daher nur zwei Möglichkeiten, ihre Kosten zu senken. Die Stromanbieter wechseln oder den Stromverbrauch im Haushalt reduzieren.\n
SUMMARY:Strom als Luxusgut
END:VEVENT
END:VCALENDAR
