BEGIN:VCALENDAR
X-WR-TIMEZONE:Europe/Berlin
X-WR-CALNAME:rbb-Kalender
VERSION:2.0
METHOD:PUBLISH
CALSCALE:GREGORIAN
PRODID:rbb-CMS DAY
BEGIN:VEVENT
CLASS:PUBLIC
URL:http://www.rbb-online.de/content/rbb/rbb/zibb/service/geld/test-vermoegenswirksame-leistungen.html
DTEND:20140121T192500
DTSTART:20140121T183000
UID:/content/rbb/rbb/zibb/service/geld/test-vermoegenswirksame-leistungen
DTSTAMP:20140406T222735
DESCRIPTION:Mit vermögenswirksamen Leistungen (VL) können Arbeitnehmer clever sparen. Doch nicht alle nutzen die Chance. Dabei brauchen Arbeitnehmer nicht viel zu tun, um die VL-Zahlungen zu bekommen: Im zibb Service erfahren Sie, welche Sparangebote sich lohnen.\n\n\n\n\n
SUMMARY:Vermögenswirksame Leistungen
END:VEVENT
END:VCALENDAR
