BEGIN:VCALENDAR
X-WR-TIMEZONE:Europe/Berlin
X-WR-CALNAME:rbb-Kalender
VERSION:2.0
METHOD:PUBLISH
CALSCALE:GREGORIAN
PRODID:rbb-CMS DAY
BEGIN:VEVENT
CLASS:PUBLIC
URL:http://www.rbb-online.de/content/rbb/rbb/zibb/service/gesundheit/Brot.html
DTEND:20131108T192500
DTSTART:20131108T183000
UID:/content/rbb/rbb/zibb/service/gesundheit/Brot
DTSTAMP:20140406T215424
DESCRIPTION:Mehr als dreihundert Brotsorten gibt es insgesamt in Deutschland. Und immer seltener kaufen wir es beim Bäcker von nebenan. Zwei von drei Broten landen mittlerweile im Supermarkt im Einkaufskorb. Was den Unterschied ausmacht und ob dunkles Brot gesünder ist als helles, wir fragen unsere Ernährungsexpertin Vera Spellerberg.\n
SUMMARY:Wie gesund ist unser Brot?
END:VEVENT
END:VCALENDAR
