BEGIN:VCALENDAR
X-WR-TIMEZONE:Europe/Berlin
X-WR-CALNAME:rbb-Kalender
VERSION:2.0
METHOD:PUBLISH
CALSCALE:GREGORIAN
PRODID:rbb-CMS DAY
BEGIN:VEVENT
CLASS:PUBLIC
URL:http://www.rbb-online.de/content/rbb/rbb/zibb/service/gesundheit/ImplantierteLesebrille.html
DTEND:20130912T192500
DTSTART:20130912T183000
UID:/content/rbb/rbb/zibb/service/gesundheit/ImplantierteLesebrille
DTSTAMP:20140407T174831
DESCRIPTION:Die Alterssichtigkeit beginnt etwa mit 45 Jahren und trifft früher oder später jeden. Mögliche Alternative zu einer Lesebrille ist eine Operation. Zu Gast im Studio ist Dr. Anja Liekfeld, Ernst-von-Bergmann Klinikum Potsdam, Chefärztin der Augenklinik.\n\n\n
SUMMARY:Alterssichtigkeit - Lesebrille adé
END:VEVENT
END:VCALENDAR
