BEGIN:VCALENDAR
X-WR-TIMEZONE:Europe/Berlin
X-WR-CALNAME:rbb-Kalender
VERSION:2.0
METHOD:PUBLISH
CALSCALE:GREGORIAN
PRODID:rbb-CMS DAY
BEGIN:VEVENT
CLASS:PUBLIC
URL:http://www.rbb-online.de/content/rbb/rbb/zibb/service/gesundheit/augenprobleme_im_sommer.html
DTEND:20130628T183000
DTSTART:20130628T183000
UID:/content/rbb/rbb/zibb/service/gesundheit/augenprobleme_im_sommer
DTSTAMP:20140408T020903
DESCRIPTION:Gerade im Sommer leiden viele Menschen unter tränenden, juckenden und entzündeten Augen. Die Ursachen dafür sind vielfältig: Chlor im Freibad, Krankheitserreger im See oder Gräserpollen. Auch das verstärkte Sonnenlicht tut unserem wichtigsten Sinnesorgan nicht gut.
SUMMARY:Augenprobleme im Sommer
END:VEVENT
END:VCALENDAR
