BEGIN:VCALENDAR
X-WR-TIMEZONE:Europe/Berlin
X-WR-CALNAME:rbb-Kalender
VERSION:2.0
METHOD:PUBLISH
CALSCALE:GREGORIAN
PRODID:rbb-CMS DAY
BEGIN:VEVENT
CLASS:PUBLIC
URL:http://www.rbb-online.de/content/rbb/rbb/zibb/service/gesundheit/bagatellverletzungen.html
DTEND:20130702T183000
DTSTART:20130702T183000
UID:/content/rbb/rbb/zibb/service/gesundheit/bagatellverletzungen
DTSTAMP:20140408T020856
DESCRIPTION:Ob aufgeschlagene Knie, Prellungen oder Platzwunden – solche so genannten Bagatellverletzungen gehören zum Alltag der Kleinen einfach dazu. Gefährlich sind sie meistens nicht. Der Schreck dabei ist oft größer als der Schmerz.
SUMMARY:Bagatellverletzungen bei Kindern
END:VEVENT
END:VCALENDAR
