BEGIN:VCALENDAR
X-WR-TIMEZONE:Europe/Berlin
X-WR-CALNAME:rbb-Kalender
VERSION:2.0
METHOD:PUBLISH
CALSCALE:GREGORIAN
PRODID:rbb-CMS DAY
BEGIN:VEVENT
CLASS:PUBLIC
URL:http://www.rbb-online.de/content/rbb/rbb/zibb/service/gesundheit/chronische-muedigkeit.html
DTEND:20130919T192500
DTSTART:20130919T183000
UID:/content/rbb/rbb/zibb/service/gesundheit/chronische-muedigkeit
DTSTAMP:20140406T042024
DESCRIPTION:Am chronischen Erschöpfungssyndrom (CFS) leiden etwa 300 000 Menschen in Deutschland. Unsere Expertin Prof. Carmen Scheibenbogen leitet die Immundefektsprechstunde der Charité, eine Anlaufstelle für Berliner CFS-Patienten und klärt über diese weit verbreitete Krankheit auf.\n
SUMMARY:Chronisches Erschöpfungssyndrom 
END:VEVENT
END:VCALENDAR
