BEGIN:VCALENDAR
X-WR-TIMEZONE:Europe/Berlin
X-WR-CALNAME:rbb-Kalender
VERSION:2.0
METHOD:PUBLISH
CALSCALE:GREGORIAN
PRODID:rbb-CMS DAY
BEGIN:VEVENT
CLASS:PUBLIC
URL:http://www.rbb-online.de/content/rbb/rbb/zibb/service/gesundheit/darmkrebs.html
DTEND:20140217T192500
DTSTART:20140217T183000
UID:/content/rbb/rbb/zibb/service/gesundheit/darmkrebs
DTSTAMP:20140406T194848
DESCRIPTION:Darmkrebs ist hierzulande die häufigste Krebsart und trifft Frauen und Männer gleichermaßen. Mehr als 70.000 Menschen erkranken jährlich allein in Deutschland daran, etwa 27.000 sterben.\n
SUMMARY:Darmkrebs
END:VEVENT
END:VCALENDAR
