BEGIN:VCALENDAR
X-WR-TIMEZONE:Europe/Berlin
X-WR-CALNAME:rbb-Kalender
VERSION:2.0
METHOD:PUBLISH
CALSCALE:GREGORIAN
PRODID:rbb-CMS DAY
BEGIN:VEVENT
CLASS:PUBLIC
URL:http://www.rbb-online.de/content/rbb/rbb/zibb/service/gesundheit/elektronische-gesundheitskarte.html
DTEND:20131203T192500
DTSTART:20131203T183000
UID:/content/rbb/rbb/zibb/service/gesundheit/elektronische-gesundheitskarte
DTSTAMP:20140406T231533
DESCRIPTION:Die neue elektronische Gesundheitskarte – bis zum 1. Januar soll jeder sie haben. Millionenfach forderten die Kassen ihre Versicherten auf, ein Foto einzureichen – entweder als Datei oder als Papierbild. Die Uhr tickt.\n\n\n
SUMMARY:Die neue elektronische Gesundheitskarte
END:VEVENT
END:VCALENDAR
