BEGIN:VCALENDAR
X-WR-TIMEZONE:Europe/Berlin
X-WR-CALNAME:rbb-Kalender
VERSION:2.0
METHOD:PUBLISH
CALSCALE:GREGORIAN
PRODID:rbb-CMS DAY
BEGIN:VEVENT
CLASS:PUBLIC
URL:http://www.rbb-online.de/content/rbb/rbb/zibb/service/gesundheit/farbstoffe-in-lebensmitteln.html
DTEND:20130813T192500
DTSTART:20130813T183000
UID:/content/rbb/rbb/zibb/service/gesundheit/farbstoffe-in-lebensmitteln
DTSTAMP:20140408T020819
DESCRIPTION:Hauptsache bunt - das scheint das Motto vieler Lebensmittelhersteller zu sein. Insbesondere Produkte, die hauptsächlich von Kindern konsumiert werden, enthalten jede Menge künstlicher Farbstoffe. Viele davon stehen unter dem Verdacht, gesundheitsschädlich zu sein.\n
SUMMARY:Farbstoffe in Lebensmitteln
END:VEVENT
END:VCALENDAR
