BEGIN:VCALENDAR
X-WR-TIMEZONE:Europe/Berlin
X-WR-CALNAME:rbb-Kalender
VERSION:2.0
METHOD:PUBLISH
CALSCALE:GREGORIAN
PRODID:rbb-CMS DAY
BEGIN:VEVENT
CLASS:PUBLIC
URL:http://www.rbb-online.de/content/rbb/rbb/zibb/service/gesundheit/gift-aus-der-leitung.html
DTEND:20131125T192500
DTSTART:20131125T183000
UID:/content/rbb/rbb/zibb/service/gesundheit/gift-aus-der-leitung
DTSTAMP:20140406T225759
DESCRIPTION:Leitungen aus Blei vergiften noch immer in tausenden Haushalten das Trinkwasser in Berlin und Brandenburg. Ab 1. Dezember sinkt der erlaubte Bleigehalt von 25 auf 10 Mikrogramm je Liter. Letzte Bleirohre müssen dann endgültig ausgewechselt werden. Wie erfahren Mieter, ob sie betroffen sind? Was können sind sie in dem Fall tun? Wer trägt die Kosten?\n\n\n
SUMMARY:Gift aus der Leitung
END:VEVENT
END:VCALENDAR
