BEGIN:VCALENDAR
X-WR-TIMEZONE:Europe/Berlin
X-WR-CALNAME:rbb-Kalender
VERSION:2.0
METHOD:PUBLISH
CALSCALE:GREGORIAN
PRODID:rbb-CMS DAY
BEGIN:VEVENT
CLASS:PUBLIC
URL:http://www.rbb-online.de/content/rbb/rbb/zibb/service/gesundheit/gluecksspielsucht.html
DTEND:20130924T192500
DTSTART:20130924T183000
UID:/content/rbb/rbb/zibb/service/gesundheit/gluecksspielsucht
DTSTAMP:20140406T195944
DESCRIPTION:Sie zocken an Automaten in Spielhöllen, gehen ins Casino oder spielen zu Hause am Computer: Spielsucht ist die am schnellsten wachsende Suchtform. Die Zahl der Betroffenen in Deutschland wird auf etwa 260.000 geschätzt, immer häufiger sind es auch Frauen.\n
SUMMARY:Alles verspielt – Glücksspielsucht
END:VEVENT
END:VCALENDAR
