BEGIN:VCALENDAR
X-WR-TIMEZONE:Europe/Berlin
X-WR-CALNAME:rbb-Kalender
VERSION:2.0
METHOD:PUBLISH
CALSCALE:GREGORIAN
PRODID:rbb-CMS DAY
BEGIN:VEVENT
CLASS:PUBLIC
URL:http://www.rbb-online.de/content/rbb/rbb/zibb/service/gesundheit/hausapotheke-aus-der-natur.html
DTEND:20130805T192500
DTSTART:20130805T183000
UID:/content/rbb/rbb/zibb/service/gesundheit/hausapotheke-aus-der-natur
DTSTAMP:20140407T171328
DESCRIPTION:Die Ringelblumensalbe ist eine hervorragende Heilsalbe und gehört in jede Hausapotheke. Ihre ätherischen Öle und weitere Inhaltsstoffe  wirken  u.a. bei Ausschlägen, Flechten und Verletzungen. Ein Kräuterbitter hilft bei Verdauungsproblemen.\n\n\n
SUMMARY:Hausapotheke aus der Natur
END:VEVENT
END:VCALENDAR
