BEGIN:VCALENDAR
X-WR-TIMEZONE:Europe/Berlin
X-WR-CALNAME:rbb-Kalender
VERSION:2.0
METHOD:PUBLISH
CALSCALE:GREGORIAN
PRODID:rbb-CMS DAY
BEGIN:VEVENT
CLASS:PUBLIC
URL:http://www.rbb-online.de/content/rbb/rbb/zibb/service/gesundheit/kaiserschnitt.html
DTEND:20131119T192500
DTSTART:20131119T183000
UID:/content/rbb/rbb/zibb/service/gesundheit/kaiserschnitt
DTSTAMP:20140406T195123
DESCRIPTION:Jedes dritte Baby in Deutschland wird inzwischen per Kaiserschnitt geboren. Im Jahr sind es 200.000 Kinder. Die Gründe für den schnellen Schnitt sind vielfältig. Die Meinungen, wann geschnitten werden muss, gehen auseinander. Nicht umstritten ist, dass er in vielen Fällen Leben retten kann. Doch Kinderärzte schlagen Alarm.\n\n\n
SUMMARY:Kaiserschnitt
END:VEVENT
END:VCALENDAR
