BEGIN:VCALENDAR
X-WR-TIMEZONE:Europe/Berlin
X-WR-CALNAME:rbb-Kalender
VERSION:2.0
METHOD:PUBLISH
CALSCALE:GREGORIAN
PRODID:rbb-CMS DAY
BEGIN:VEVENT
CLASS:PUBLIC
URL:http://www.rbb-online.de/content/rbb/rbb/zibb/service/gesundheit/kleine-teilchen--grosse-gefahr.html
DTEND:20140303T192500
DTSTART:20140303T183000
UID:/content/rbb/rbb/zibb/service/gesundheit/kleine-teilchen--grosse-gefahr
DTSTAMP:20140406T223550
DESCRIPTION:Zu sehen sind sie nicht, stecken aber in Zahnpasta, Duschgels oder Peelingcremes: Mikrofeine Plastikpartikel. Die kleinen Kügelchen bestehen meistens aus Polyethylen und sollen für einen mechanischen Reinigungseffekt sorgen. Plastikkügelchen, die unterschätzte Gefahr? Zu Gast: Jürgen Stellpflug, Chefredakteur Ökotest\n\n \n\n              \n\n\n
SUMMARY:Kleine Teilchen - Große Gefahr
END:VEVENT
END:VCALENDAR
