BEGIN:VCALENDAR
X-WR-TIMEZONE:Europe/Berlin
X-WR-CALNAME:rbb-Kalender
VERSION:2.0
METHOD:PUBLISH
CALSCALE:GREGORIAN
PRODID:rbb-CMS DAY
BEGIN:VEVENT
CLASS:PUBLIC
URL:http://www.rbb-online.de/content/rbb/rbb/zibb/service/gesundheit/kopfschmerzen.html
DTEND:20130411T183000
DTSTART:20130411T183000
UID:/content/rbb/rbb/zibb/service/gesundheit/kopfschmerzen
DTSTAMP:20140407T154313
DESCRIPTION:Es gibt über 200 verschiedene Kopfschmerz-Arten, die meisten davon harmlos. Aber Vorsicht: Es kann auch eine lebensbedrohliche Krankheit dahinter stecken. Wie Patienten das unterscheiden können, verrät Dr. med. Clemens Fahrig.\n
SUMMARY:Kopfschmerzen
END:VEVENT
END:VCALENDAR
