BEGIN:VCALENDAR
X-WR-TIMEZONE:Europe/Berlin
X-WR-CALNAME:rbb-Kalender
VERSION:2.0
METHOD:PUBLISH
CALSCALE:GREGORIAN
PRODID:rbb-CMS DAY
BEGIN:VEVENT
CLASS:PUBLIC
URL:http://www.rbb-online.de/content/rbb/rbb/zibb/service/gesundheit/krankheiten-bei-wildtiere.html
DTEND:20130816T192500
DTSTART:20130816T183000
UID:/content/rbb/rbb/zibb/service/gesundheit/krankheiten-bei-wildtiere
DTSTAMP:20140407T172914
DESCRIPTION:An Wildtiere in der Stadt haben wir uns längst gewöhnt. Und auch daran, dass sie immer zutraulicher werden und uns regelrecht auf die Pelle rücken.\n\n\n
SUMMARY:Krankheiten bei Wildtieren
END:VEVENT
END:VCALENDAR
