BEGIN:VCALENDAR
X-WR-TIMEZONE:Europe/Berlin
X-WR-CALNAME:rbb-Kalender
VERSION:2.0
METHOD:PUBLISH
CALSCALE:GREGORIAN
PRODID:rbb-CMS DAY
BEGIN:VEVENT
CLASS:PUBLIC
URL:http://www.rbb-online.de/content/rbb/rbb/zibb/service/gesundheit/krebsforschung.html
DTEND:20131028T192500
DTSTART:20131028T183000
UID:/content/rbb/rbb/zibb/service/gesundheit/krebsforschung
DTSTAMP:20140407T174011
DESCRIPTION:Mehr als die Hälfte aller Krebspatienten kann inzwischen geheilt werden, durch Operation, Bestrahlung und Chemotherapie. Bisher unterscheiden Mediziner Krebsarten nach den Organen, in denen sie vorkommen. Das könnte sich jetzt ändern, denn offenbar besitzt jeder Krebs seine genetischen Eigenarten - ganz egal, wo er wächst.\n
SUMMARY:Neues aus der Krebsforschung
END:VEVENT
END:VCALENDAR
