BEGIN:VCALENDAR
X-WR-TIMEZONE:Europe/Berlin
X-WR-CALNAME:rbb-Kalender
VERSION:2.0
METHOD:PUBLISH
CALSCALE:GREGORIAN
PRODID:rbb-CMS DAY
BEGIN:VEVENT
CLASS:PUBLIC
URL:http://www.rbb-online.de/content/rbb/rbb/zibb/service/gesundheit/morbus-chron.html
DTEND:20140213T192500
DTSTART:20140213T183000
UID:/content/rbb/rbb/zibb/service/gesundheit/morbus-chron
DTSTAMP:20140406T200215
DESCRIPTION:Morbus Crohn ist unheilbar. Bisher betraf diese chronische Entzündung des Darms hauptsächlich Erwachsene. 15 bis 25 Prozent der Patienten entwickeln jedoch die Symptome vor dem 20. Lebensjahr und die Tendenz ist steigend.\n\n\n
SUMMARY:Junges Leben mit Morbus Crohn
END:VEVENT
END:VCALENDAR
