BEGIN:VCALENDAR
X-WR-TIMEZONE:Europe/Berlin
X-WR-CALNAME:rbb-Kalender
VERSION:2.0
METHOD:PUBLISH
CALSCALE:GREGORIAN
PRODID:rbb-CMS DAY
BEGIN:VEVENT
CLASS:PUBLIC
URL:http://www.rbb-online.de/content/rbb/rbb/zibb/service/gesundheit/mythen-um-die-mistel.html
DTEND:20131219T192500
DTSTART:20131219T183000
UID:/content/rbb/rbb/zibb/service/gesundheit/mythen-um-die-mistel
DTSTAMP:20140406T194513
DESCRIPTION:Immergrüne Pflanzen gehören seit Jahrhunderten zur Advents- und Weihnachtszeit. Seit wann und warum gibt es diesen Brauch? Mythen ranken sich besonders um die Mistel. Die Expertin für Naturheilkunde, Dr. Kristin Peters, klärt auf.\n\n\n
SUMMARY:Mythen um die Mistel
END:VEVENT
END:VCALENDAR
