BEGIN:VCALENDAR
X-WR-TIMEZONE:Europe/Berlin
X-WR-CALNAME:rbb-Kalender
VERSION:2.0
METHOD:PUBLISH
CALSCALE:GREGORIAN
PRODID:rbb-CMS DAY
BEGIN:VEVENT
CLASS:PUBLIC
URL:http://www.rbb-online.de/content/rbb/rbb/zibb/service/gesundheit/risiko_sonne.html
DTEND:20130620T183000
DTSTART:20130620T183000
UID:/content/rbb/rbb/zibb/service/gesundheit/risiko_sonne
DTSTAMP:20140406T040309
DESCRIPTION:Der Sommer ist da, die Freude groß. Aber Vorsicht: Unsere Haut vergisst nichts. Wer jetzt ungeschützt in die Sonne geht, riskiert später hellen Hautkrebs. Die Zahl der Neu-Diagnosen steigt rapide - rund 220.000 Patienten kommen jedes Jahr dazu. "zibb" gibt Tipps, wie man sich schützt. 
SUMMARY:Risiko Sonne
END:VEVENT
END:VCALENDAR
