BEGIN:VCALENDAR
X-WR-TIMEZONE:Europe/Berlin
X-WR-CALNAME:rbb-Kalender
VERSION:2.0
METHOD:PUBLISH
CALSCALE:GREGORIAN
PRODID:rbb-CMS DAY
BEGIN:VEVENT
CLASS:PUBLIC
URL:http://www.rbb-online.de/content/rbb/rbb/zibb/service/gesundheit/schwitzen___was_hilft.html
DTEND:20130524T183000
DTSTART:20130524T183000
UID:/content/rbb/rbb/zibb/service/gesundheit/schwitzen___was_hilft
DTSTAMP:20140407T154802
DESCRIPTION:Schwitzen ist eigentlich eine nützliche Reaktion, die den Körper vor Überhitzung schützt, wären da nicht unangenehme Begleiterscheinungen wie Schweißgeruch. Was hilft bei normalem Schwitzen? Was sind Anzeichen für krankhaftes Schwitzen?\n
SUMMARY:Schwitzen - was hilft?
END:VEVENT
END:VCALENDAR
