BEGIN:VCALENDAR
X-WR-TIMEZONE:Europe/Berlin
X-WR-CALNAME:rbb-Kalender
VERSION:2.0
METHOD:PUBLISH
CALSCALE:GREGORIAN
PRODID:rbb-CMS DAY
BEGIN:VEVENT
CLASS:PUBLIC
URL:http://www.rbb-online.de/content/rbb/rbb/zibb/service/gesundheit/service-esst-doch-was-ihr-wollt.html
DTEND:20131122T192500
DTSTART:20131122T183000
UID:/content/rbb/rbb/zibb/service/gesundheit/service-esst-doch-was-ihr-wollt
DTSTAMP:20140406T193803
DESCRIPTION:Vegetarisch, Vegan, ohne Kohlehydrate, nur Rohkost oder makrobiotisch wie soll man denn nun Essen? Uwe Knop, Ernährungswissenschafter, bringt das auf eine einfache Formel: Essen Sie wenn Sie Hunger haben und zwar nur dann und auf das, worauf Sie Lust haben.\n
SUMMARY:Service: Esst doch was Ihr wollt
END:VEVENT
END:VCALENDAR
