BEGIN:VCALENDAR
X-WR-TIMEZONE:Europe/Berlin
X-WR-CALNAME:rbb-Kalender
VERSION:2.0
METHOD:PUBLISH
CALSCALE:GREGORIAN
PRODID:rbb-CMS DAY
BEGIN:VEVENT
CLASS:PUBLIC
URL:http://www.rbb-online.de/content/rbb/rbb/zibb/service/gesundheit/service-floh-alarm.html
DTEND:20131120T192500
DTSTART:20131120T183000
UID:/content/rbb/rbb/zibb/service/gesundheit/service-floh-alarm
DTSTAMP:20140406T234110
DESCRIPTION:Jetzt ist absolute Hochsaison für Flöhe! Die lästigen Parasiten lieben es nämlich warm - und werden sie erst einmal durch Katze oder Hund ins Haus gebracht, vermehren sie sich sehr schnell. Wir fragen Jeanette Koepsel, Berliner Tierärztin, wie man die Plage schnell und rückstandslos wieder los wird und wie man sein Tier vor Flohbefall schützen kann.\n\n\n
SUMMARY:Floh-Alarm
END:VEVENT
END:VCALENDAR
