BEGIN:VCALENDAR
X-WR-TIMEZONE:Europe/Berlin
X-WR-CALNAME:rbb-Kalender
VERSION:2.0
METHOD:PUBLISH
CALSCALE:GREGORIAN
PRODID:rbb-CMS DAY
BEGIN:VEVENT
CLASS:PUBLIC
URL:http://www.rbb-online.de/content/rbb/rbb/zibb/service/gesundheit/vegetarier.html
DTEND:20131114T192500
DTSTART:20131114T183000
UID:/content/rbb/rbb/zibb/service/gesundheit/vegetarier
DTSTAMP:20140406T041802
DESCRIPTION:Die Deutschen sind wahre Fleisch-Fans - fast 90 Kilo verzehren sie im Durchschnitt pro Jahr. Doch nach Gammelfleisch-Skandalen und Berichten über die grausamen Bedingungen in Mastbetrieben entscheiden sich auch immer mehr Menschen bewusst gegen Fleisch. Und das offenbar zurecht. Neue Studien zeigen: Vegetarier leben länger und gesünder.\n
SUMMARY:Leben Vegetarier länger?
END:VEVENT
END:VCALENDAR
