BEGIN:VCALENDAR
X-WR-TIMEZONE:Europe/Berlin
X-WR-CALNAME:rbb-Kalender
VERSION:2.0
METHOD:PUBLISH
CALSCALE:GREGORIAN
PRODID:rbb-CMS DAY
BEGIN:VEVENT
CLASS:PUBLIC
URL:http://www.rbb-online.de/content/rbb/rbb/zibb/service/gesundheit/verbrennungen-bei-kindern.html
DTEND:20131204T192500
DTSTART:20131204T183000
UID:/content/rbb/rbb/zibb/service/gesundheit/verbrennungen-bei-kindern
DTSTAMP:20140406T083858
DESCRIPTION:Im Haushalt lauern viele Gefahren für Kleinkinder. Schon eine einzige Tasse Kaffee oder Tee reicht aus, um 30 Prozent ihrer Haut zu verbrennen. Wie sich solche Unfälle vermeiden lassen und was im Notfall zu tun ist, erklärt Kinderchirurgin Dr. Stefanie Märzheuser von der Charité Berlin im zibb-Service.\n\n\n
SUMMARY:Verbrennungen bei Kindern
END:VEVENT
END:VCALENDAR
