BEGIN:VCALENDAR
X-WR-TIMEZONE:Europe/Berlin
X-WR-CALNAME:rbb-Kalender
VERSION:2.0
METHOD:PUBLISH
CALSCALE:GREGORIAN
PRODID:rbb-CMS DAY
BEGIN:VEVENT
CLASS:PUBLIC
URL:http://www.rbb-online.de/content/rbb/rbb/zibb/service/gesundheit/wenn-die-kasse-nicht-zahlt.html
DTEND:20140225T192500
DTSTART:20140225T183000
UID:/content/rbb/rbb/zibb/service/gesundheit/wenn-die-kasse-nicht-zahlt
DTSTAMP:20140406T223529
DESCRIPTION:Keine Reha, keine Hörgeräte: In hunderttausenden Fällen verweigern Krankenkassen Leistungen, trotz ihrer Milliardenüberschüsse. Was nun? Aufgeben, Widerspruch einlegen oder gleich klagen? Wir geben Tipps, wie man trotzdem zu seinen Hilfsmitteln kommt.\n\n\n
SUMMARY:Wenn die Kasse nicht zahlt
END:VEVENT
END:VCALENDAR
