BEGIN:VCALENDAR
X-WR-TIMEZONE:Europe/Berlin
X-WR-CALNAME:rbb-Kalender
VERSION:2.0
METHOD:PUBLISH
CALSCALE:GREGORIAN
PRODID:rbb-CMS DAY
BEGIN:VEVENT
CLASS:PUBLIC
URL:http://www.rbb-online.de/content/rbb/rbb/zibb/service/gesundheit/wie_gefaehrlich_sind.html
DTEND:20130617T183000
DTSTART:20130617T183000
UID:/content/rbb/rbb/zibb/service/gesundheit/wie_gefaehrlich_sind
DTSTAMP:20140408T020847
DESCRIPTION:Arschgeweih, Totenkopf oder Engelsflügel - Tattoos sind nach wie vor beliebt. Etwa jeder vierte 16- bis 29-jährige Deutsche ist tätowiert. Doch bergen Tatoos auch gesundheitliche Risiken?\n
SUMMARY:Wie gefährlich sind Tattoos?
END:VEVENT
END:VCALENDAR
