BEGIN:VCALENDAR
X-WR-TIMEZONE:Europe/Berlin
X-WR-CALNAME:rbb-Kalender
VERSION:2.0
METHOD:PUBLISH
CALSCALE:GREGORIAN
PRODID:rbb-CMS DAY
BEGIN:VEVENT
CLASS:PUBLIC
URL:http://www.rbb-online.de/content/rbb/rbb/zibb/service/gesundheit/zahnspangen.html
DTEND:20130611T183000
DTSTART:20130611T183000
UID:/content/rbb/rbb/zibb/service/gesundheit/zahnspangen
DTSTAMP:20140408T021215
DESCRIPTION:Mittlerweile tragen schätzungsweise zwei Drittel aller Kinder und Jugendlichen eine Spange. Was man dabei beachten sollte und mit wie viel Geld die Eltern rechnen müssen, erklärt Kieferorthopädin Cindy Spors im\n\nzibb-Service.\n
SUMMARY:Zahnspangen
END:VEVENT
END:VCALENDAR
