BEGIN:VCALENDAR
X-WR-TIMEZONE:Europe/Berlin
X-WR-CALNAME:rbb-Kalender
VERSION:2.0
METHOD:PUBLISH
CALSCALE:GREGORIAN
PRODID:rbb-CMS DAY
BEGIN:VEVENT
CLASS:PUBLIC
URL:http://www.rbb-online.de/content/rbb/rbb/zibb/service/kulinarisches/Lebensmittel-online-bestellen.html
DTEND:20131014T192500
DTSTART:20131014T183000
UID:/content/rbb/rbb/zibb/service/kulinarisches/Lebensmittel-online-bestellen
DTSTAMP:20140407T160001
DESCRIPTION:Wer keine Lust auf lange Schlangen an der Supermarktkasse und schweres Tütenschleppen hat, für den gibt es eine Alternative: Lebensmittel online bestellen und sie sich bequem nach Hause liefern lassen. Doch wie gut ist dieser Service?\n
SUMMARY:Lebensmittel online bestellen
END:VEVENT
END:VCALENDAR
