BEGIN:VCALENDAR
X-WR-TIMEZONE:Europe/Berlin
X-WR-CALNAME:rbb-Kalender
VERSION:2.0
METHOD:PUBLISH
CALSCALE:GREGORIAN
PRODID:rbb-CMS DAY
BEGIN:VEVENT
CLASS:PUBLIC
URL:http://www.rbb-online.de/content/rbb/rbb/zibb/service/kulinarisches/apfelsorten.html
DTEND:20130918T192500
DTSTART:20130918T183000
UID:/content/rbb/rbb/zibb/service/kulinarisches/apfelsorten
DTSTAMP:20140406T041640
DESCRIPTION:Regionale Apfelsorten werden immer beliebter. Sie heißen "Hasenkopf", "Prinz Albrecht von Preißen" oder "Gubener Warraschke". Worin unterscheiden sie sich von jenen, die man beispielsweise im Supermarkt kaufen kann?\n\n\n\n\n
SUMMARY:Äpfel - die besten Sorten 
END:VEVENT
END:VCALENDAR
