BEGIN:VCALENDAR
X-WR-TIMEZONE:Europe/Berlin
X-WR-CALNAME:rbb-Kalender
VERSION:2.0
METHOD:PUBLISH
CALSCALE:GREGORIAN
PRODID:rbb-CMS DAY
BEGIN:VEVENT
CLASS:PUBLIC
URL:http://www.rbb-online.de/content/rbb/rbb/zibb/service/kulinarisches/himbeeren.html
DTEND:20130708T180300
DTSTART:20130708T180300
UID:/content/rbb/rbb/zibb/service/kulinarisches/himbeeren
DTSTAMP:20140407T155934
DESCRIPTION:"Krebszellen mögen keine Himbeeren" - so lautet der Titel des Bestsellers zweier Molekularmediziner. Denn: Die Himbeere ist eins der gesündesten Früchtchen überhaupt. Und sie schmeckt! zibb zeigt, was sich alles aus ihr zaubern lässt.
SUMMARY:Himbeeren
END:VEVENT
END:VCALENDAR
