BEGIN:VCALENDAR
X-WR-TIMEZONE:Europe/Berlin
X-WR-CALNAME:rbb-Kalender
VERSION:2.0
METHOD:PUBLISH
CALSCALE:GREGORIAN
PRODID:rbb-CMS DAY
BEGIN:VEVENT
CLASS:PUBLIC
URL:http://www.rbb-online.de/content/rbb/rbb/zibb/service/kulinarisches/kse.html
DTEND:20140311T192500
DTSTART:20140311T183000
UID:/content/rbb/rbb/zibb/service/kulinarisches/kse
DTSTAMP:20140406T214146
DESCRIPTION:Einige sind in Ruhe gereift und mit viel Liebe gehegt, andere sind frisch und mit Aromen verfeinert – das ist Käse in seiner appetitlichsten Form. Ca. 24 Kilo Käse verspeisen wir Deutschen im Jahr. Etwa 1000 Sorten gibt es – trotzdem nehmen wir ihn viel zu oft über Fastfood und Fertiggerichten zu uns. Leider, denn Käse kann sehr gesund sein.\n
SUMMARY:Was steckt drin im Käse?
END:VEVENT
END:VCALENDAR
