BEGIN:VCALENDAR
X-WR-TIMEZONE:Europe/Berlin
X-WR-CALNAME:rbb-Kalender
VERSION:2.0
METHOD:PUBLISH
CALSCALE:GREGORIAN
PRODID:rbb-CMS DAY
BEGIN:VEVENT
CLASS:PUBLIC
URL:http://www.rbb-online.de/content/rbb/rbb/zibb/service/kulinarisches/kuechenmesser_scharf_sicher.html
DTEND:20140326T192500
DTSTART:20140326T183000
UID:/content/rbb/rbb/zibb/service/kulinarisches/kuechenmesser_scharf_sicher
DTSTAMP:20140405T232052
DESCRIPTION:Ein Spitzenkoch muss vor allem schneiden. Und das am besten mit dem richtigen Messer! Sternekoch Marco Müller vom "Restaurant und Weinbar Rutz" in Berlin-Mitte schnippelt, hackt und zerkleinert gern. Etwa 70 verschiedene Küchenmesser besitzt und nutzt er. Bei zibb gibt er Tipps, welche Messer ein ambitionierter Amateurkoch wirklich braucht, wie man richtig und sicher schneidet und wie Küchenmesser scharf bleiben.\n\n\n
SUMMARY:Küchenmesser – Scharf und sicher
END:VEVENT
END:VCALENDAR
