BEGIN:VCALENDAR
X-WR-TIMEZONE:Europe/Berlin
X-WR-CALNAME:rbb-Kalender
VERSION:2.0
METHOD:PUBLISH
CALSCALE:GREGORIAN
PRODID:rbb-CMS DAY
BEGIN:VEVENT
CLASS:PUBLIC
URL:http://www.rbb-online.de/content/rbb/rbb/zibb/service/kulinarisches/marzipan.html
DTEND:20131216T192500
DTSTART:20131216T183000
UID:/content/rbb/rbb/zibb/service/kulinarisches/marzipan
DTSTAMP:20140406T223351
DESCRIPTION:Marzipan - die süßeste Versuchung in der Weihnachtszeit. Und dabei auch noch ein äußerst gesundes Naturprodukt. Nur Mandeln und Zucker kommen in den Teig. Im Idealfall. Denn: Manche Hersteller schummeln und sparen an den gesunden Mandeln. Wie man gutes Marzipan erkennt und was man daraus alles zaubern kann, verrät zibb-Ernährungsexpertin Vera Spellerberg.\n
SUMMARY:Marzipan - lecker und gesund
END:VEVENT
END:VCALENDAR
