BEGIN:VCALENDAR
X-WR-TIMEZONE:Europe/Berlin
X-WR-CALNAME:rbb-Kalender
VERSION:2.0
METHOD:PUBLISH
CALSCALE:GREGORIAN
PRODID:rbb-CMS DAY
BEGIN:VEVENT
CLASS:PUBLIC
URL:http://www.rbb-online.de/content/rbb/rbb/zibb/service/kulinarisches/service-mulrivitaminsaefte.html
DTEND:20140110T192500
DTSTART:20140110T183000
UID:/content/rbb/rbb/zibb/service/kulinarisches/service-mulrivitaminsaefte
DTSTAMP:20140405T223447
DESCRIPTION:Ein schneller Schluck und schon ist der Körper mit allem versorgt, was er so braucht - das ist das Versprechen der Multivitaminsäfte. Aber sind sie wirklich so gesund? Ökotest hat jetzt teure und billige Varianten untersucht – und rät von den meisten eher ab.\n
SUMMARY:Saftige Versager: Multivitaminsäfte im Test
END:VEVENT
END:VCALENDAR
